BEGIN:VCALENDAR
VERSION:2.0
PRODID:SchoolNow
CALSCALE:GREGORIAN
BEGIN:VEVENT
UID:5b509dd2-7220-11f0-991a-02b3a798c7ab
DTSTAMP:20250805T171934Z
SUMMARY:No School
URL;VALUE=URI:https://www.tusd.org/schools/seaside/calendar/8473109/no-scho
 ol
DTSTART;VALUE=DATE:20251110
DTEND;VALUE=DATE:20251112
END:VEVENT
END:VCALENDAR
