BEGIN:VCALENDAR
VERSION:2.0
PRODID:SchoolNow
CALSCALE:GREGORIAN
BEGIN:VEVENT
UID:4e3e7a60-7220-11f0-9bb0-0affe48c7e35
DTSTAMP:20250805T171912Z
SUMMARY:Makeup Pictures
URL;VALUE=URI:https://www.tusd.org/schools/seaside/calendar/8473108/makeup-
 pictures
DTSTART:20251030T161500Z
DTEND:20251030T191500Z
END:VEVENT
END:VCALENDAR
