BEGIN:VCALENDAR
VERSION:2.0
PRODID:SchoolNow
CALSCALE:GREGORIAN
BEGIN:VEVENT
UID:3c9427d8-7220-11f0-b6f7-0affee0271f9
DTSTAMP:20250805T171842Z
SUMMARY:Monster Mash
URL;VALUE=URI:https://www.tusd.org/schools/seaside/calendar/8473107/monster
 -mash
DTSTART;VALUE=DATE:20251024
DTEND;VALUE=DATE:20251025
END:VEVENT
END:VCALENDAR
