BEGIN:VCALENDAR
VERSION:2.0
PRODID:SchoolNow
CALSCALE:GREGORIAN
BEGIN:VEVENT
UID:1e884fd0-7220-11f0-9e45-0affee0271f9
DTSTAMP:20250805T171752Z
SUMMARY:Parent Conference Invite Only 2:12 Dismissal
URL;VALUE=URI:https://www.tusd.org/schools/seaside/calendar/8473106/parent-
 conference-invite-only-2-12-dismissal
DTSTART;VALUE=DATE:20251016
DTEND;VALUE=DATE:20251018
END:VEVENT
END:VCALENDAR
