BEGIN:VCALENDAR
VERSION:2.0
PRODID:SchoolNow
CALSCALE:GREGORIAN
BEGIN:VEVENT
UID:f9cfd8f2-721f-11f0-a024-02b3a798c7ab
DTSTAMP:20250805T171650Z
SUMMARY:No School
URL;VALUE=URI:https://www.tusd.org/schools/seaside/calendar/8473105/no-scho
 ol
DTSTART;VALUE=DATE:20251002
DTEND;VALUE=DATE:20251003
END:VEVENT
END:VCALENDAR
