BEGIN:VCALENDAR
VERSION:2.0
PRODID:SchoolNow
CALSCALE:GREGORIAN
BEGIN:VEVENT
UID:ee9eb6b0-721f-11f0-9d70-02ae721671d9
DTSTAMP:20250805T171632Z
SUMMARY:Student Free Day No School
URL;VALUE=URI:https://www.tusd.org/schools/seaside/calendar/8473104/student
 -free-day-no-school
DTSTART;VALUE=DATE:20250919
DTEND;VALUE=DATE:20250920
END:VEVENT
END:VCALENDAR
