BEGIN:VCALENDAR
VERSION:2.0
PRODID:SchoolNow
CALSCALE:GREGORIAN
BEGIN:VEVENT
UID:dcfbfe5e-721f-11f0-a4ca-0a58a9feac02
DTSTAMP:20250805T171602Z
SUMMARY:Labor Day No School
URL;VALUE=URI:https://www.tusd.org/schools/seaside/calendar/8473103/labor-d
 ay-no-school
DTSTART;VALUE=DATE:20250901
DTEND;VALUE=DATE:20250902
END:VEVENT
END:VCALENDAR
