BEGIN:VCALENDAR
VERSION:2.0
PRODID:SchoolNow
CALSCALE:GREGORIAN
BEGIN:VEVENT
UID:d3060afc-721f-11f0-9ba2-0eee7c8c1e25
DTSTAMP:20250805T171545Z
SUMMARY:Picture Day
URL;VALUE=URI:https://www.tusd.org/schools/seaside/calendar/8473102/picture
 -day
DTSTART;VALUE=DATE:20250904
DTEND;VALUE=DATE:20250905
END:VEVENT
END:VCALENDAR
