BEGIN:VCALENDAR
VERSION:2.0
PRODID:SchoolNow
CALSCALE:GREGORIAN
BEGIN:VEVENT
UID:8c7c9376-4b96-11f0-b33b-0a58a9feac02
DTSTAMP:20250617T161722Z
SUMMARY:TK Roundup
URL;VALUE=URI:https://www.tusd.org/schools/seaside/calendar/8318716/tk-roun
 dup
DTSTART:20250812T160000Z
DTEND:20250812T170000Z
END:VEVENT
END:VCALENDAR
