BEGIN:VCALENDAR
VERSION:2.0
PRODID:SchoolNow
CALSCALE:GREGORIAN
BEGIN:VEVENT
UID:72825104-4b96-11f0-b208-0a58a9feac02
DTSTAMP:20250617T161638Z
SUMMARY:Kinder Roundup
URL;VALUE=URI:https://www.tusd.org/schools/seaside/calendar/8318715/kinder-
 roundup
DTSTART:20250813T160000Z
DTEND:20250813T170000Z
END:VEVENT
END:VCALENDAR
