BEGIN:VCALENDAR
VERSION:2.0
PRODID:SchoolNow
CALSCALE:GREGORIAN
BEGIN:VEVENT
UID:3bde329e-4b96-11f0-9655-0affe33dc041
DTSTAMP:20250617T161507Z
SUMMARY:First Grade Dolphin Days
URL;VALUE=URI:https://www.tusd.org/schools/seaside/calendar/8318714/first-g
 rade-dolphin-days
DTSTART:20250804T160000Z
DTEND:20250809T190000Z
END:VEVENT
END:VCALENDAR
