BEGIN:VCALENDAR
VERSION:2.0
PRODID:SchoolNow
CALSCALE:GREGORIAN
BEGIN:VEVENT
UID:15ce7778-1af2-11f0-aed0-0a58a9feac02
DTSTAMP:20250416T183909Z
SUMMARY:First Day of School
URL;VALUE=URI:https://www.tusd.org/schools/seaside/calendar/7940464/first-d
 ay-of-school
DTSTART;VALUE=DATE:20250821
DTEND;VALUE=DATE:20250822
END:VEVENT
END:VCALENDAR
