BEGIN:VCALENDAR
VERSION:2.0
PRODID:SchoolNow
CALSCALE:GREGORIAN
BEGIN:VEVENT
UID:cc283046-1af1-11f0-8024-0218bb909959
DTSTAMP:20250416T183706Z
SUMMARY:5th Grade Ceremony
URL;VALUE=URI:https://www.tusd.org/schools/seaside/calendar/7940463/5th-gra
 de-ceremony
DTSTART:20250416T163000Z
DTEND:20250416T173000Z
END:VEVENT
END:VCALENDAR
