BEGIN:VCALENDAR
VERSION:2.0
PRODID:SchoolNow
CALSCALE:GREGORIAN
BEGIN:VEVENT
UID:1826f478-d82b-11ef-83a3-0afff70ea491
DTSTAMP:20250211T181449Z
SUMMARY:TK/K Tour
URL;VALUE=URI:https://www.tusd.org/schools/seaside/calendar/7350251/tk-k-to
 ur
DTSTART:20250422T163000Z
DTEND:20250422T170000Z
END:VEVENT
END:VCALENDAR
