BEGIN:VCALENDAR
VERSION:2.0
PRODID:SchoolNow
CALSCALE:GREGORIAN
BEGIN:VEVENT
UID:03aaef18-d82b-11ef-afc4-02a40193950d
DTSTAMP:20250211T181433Z
SUMMARY:TK/K Tour
URL;VALUE=URI:https://www.tusd.org/schools/seaside/calendar/7350250/tk-k-to
 ur
DTSTART:20250318T163000Z
DTEND:20250318T170000Z
END:VEVENT
END:VCALENDAR
