BEGIN:VCALENDAR
VERSION:2.0
PRODID:SchoolNow
CALSCALE:GREGORIAN
BEGIN:VEVENT
UID:bb87d538-b805-11ef-99db-0a58a9feac02
DTSTAMP:20241211T212023Z
SUMMARY:No School
URL;VALUE=URI:https://www.tusd.org/schools/seaside/calendar/7156470/no-scho
 ol
DTSTART;VALUE=DATE:20250314
DTEND;VALUE=DATE:20250315
END:VEVENT
END:VCALENDAR
