BEGIN:VCALENDAR
VERSION:2.0
PRODID:SchoolNow
CALSCALE:GREGORIAN
BEGIN:VEVENT
UID:03a3010e-b805-11ef-b1e7-0affd940a4eb
DTSTAMP:20241211T211514Z
SUMMARY:Tug of War
URL;VALUE=URI:https://www.tusd.org/schools/seaside/calendar/7156465/tug-of-
 war
DTSTART;VALUE=DATE:20250611
DTEND;VALUE=DATE:20250612
END:VEVENT
END:VCALENDAR
