BEGIN:VCALENDAR
VERSION:2.0
PRODID:SchoolNow
CALSCALE:GREGORIAN
BEGIN:VEVENT
UID:e0d46b68-b804-11ef-b82b-0edb93b7141b
DTSTAMP:20241211T211416Z
SUMMARY:5th Grade Field Day
URL;VALUE=URI:https://www.tusd.org/schools/seaside/calendar/7156463/5th-gra
 de-field-day
DTSTART;VALUE=DATE:20250606
DTEND;VALUE=DATE:20250607
END:VEVENT
END:VCALENDAR
