BEGIN:VCALENDAR
VERSION:2.0
PRODID:SchoolNow
CALSCALE:GREGORIAN
BEGIN:VEVENT
UID:d281f03a-b804-11ef-82c3-0a58a9feac02
DTSTAMP:20250416T183621Z
SUMMARY:Portfolio Day
URL;VALUE=URI:https://www.tusd.org/schools/seaside/calendar/7156462/portfol
 io-day
DTSTART:20250523T200000Z
DTEND:20250523T210000Z
END:VEVENT
END:VCALENDAR
