BEGIN:VCALENDAR
VERSION:2.0
PRODID:SchoolNow
CALSCALE:GREGORIAN
BEGIN:VEVENT
UID:ea2d28b6-b332-11ef-a31b-0a58a9feac02
DTSTAMP:20241205T180113Z
SUMMARY:PALI
URL;VALUE=URI:https://www.tusd.org/schools/seaside/calendar/7126132/pali
DTSTART;VALUE=DATE:20250423
DTEND;VALUE=DATE:20250426
END:VEVENT
END:VCALENDAR
