BEGIN:VCALENDAR
VERSION:2.0
PRODID:SchoolNow
CALSCALE:GREGORIAN
BEGIN:VEVENT
UID:3b3a33e2-64a1-11ef-a606-0a58a9feac02
DTSTAMP:20240827T182151Z
SUMMARY:Last Day of School
URL;VALUE=URI:https://www.tusd.org/schools/seaside/calendar/6469947/last-da
 y-of-school
DTSTART;VALUE=DATE:20250612
DTEND;VALUE=DATE:20250613
END:VEVENT
END:VCALENDAR
