BEGIN:VCALENDAR
VERSION:2.0
PRODID:SchoolNow
CALSCALE:GREGORIAN
BEGIN:VEVENT
UID:8c72c028-3d1f-11f1-a597-0a58a9feac02
DTSTAMP:20260425T144515Z
SUMMARY:Friendship Club
URL;VALUE=URI:https://www.tusd.org/schools/riviera/calendar/9008116/friends
 hip-club
DTSTART:20260429T190000Z
DTEND:20260429T200000Z
END:VEVENT
END:VCALENDAR
