BEGIN:VCALENDAR
VERSION:2.0
PRODID:SchoolNow
CALSCALE:GREGORIAN
BEGIN:VEVENT
UID:af12f702-f1a1-11f0-9e58-0a58a9feac02
DTSTAMP:20260419T124513Z
SUMMARY:1st Grade Drawing Assembly/Family Night
URL;VALUE=URI:https://www.tusd.org/schools/riviera/calendar/8836499/1st-gra
 de-drawing-assembly-family-night
DTSTART;VALUE=DATE:20260312
DTEND;VALUE=DATE:20260313
END:VEVENT
END:VCALENDAR
