BEGIN:VCALENDAR
VERSION:2.0
PRODID:SchoolNow
CALSCALE:GREGORIAN
BEGIN:VEVENT
UID:aee76f10-f1a1-11f0-9a53-0a58a9feac02
DTSTAMP:20260419T124513Z
SUMMARY:4th Grade Field Trip-La Brea Tar Pits
URL;VALUE=URI:https://www.tusd.org/schools/riviera/calendar/8836492/4th-gra
 de-field-trip-la-brea-tar-pits
DTSTART;VALUE=DATE:20260324
DTEND;VALUE=DATE:20260325
END:VEVENT
END:VCALENDAR
