BEGIN:VCALENDAR
VERSION:2.0
PRODID:SchoolNow
CALSCALE:GREGORIAN
BEGIN:VEVENT
UID:aee7692a-f1a1-11f0-9daa-0a58a9feac02
DTSTAMP:20260419T124513Z
SUMMARY:5th Grade Performance
URL;VALUE=URI:https://www.tusd.org/schools/riviera/calendar/8836487/5th-gra
 de-performance
DTSTART;VALUE=DATE:20260324
DTEND;VALUE=DATE:20260325
END:VEVENT
END:VCALENDAR
