BEGIN:VCALENDAR
VERSION:2.0
PRODID:SchoolNow
CALSCALE:GREGORIAN
BEGIN:VEVENT
UID:aee767cc-f1a1-11f0-bb4f-0a58a9feac02
DTSTAMP:20260421T072014Z
SUMMARY:Cancelled-ELMAC Meeting-Seaside Elementary
URL;VALUE=URI:https://www.tusd.org/schools/riviera/calendar/8836486/cancell
 ed-elmac-meeting-seaside-elementary
DTSTART:20260319T163000Z
DTEND:20260319T173000Z
END:VEVENT
END:VCALENDAR
