BEGIN:VCALENDAR
VERSION:2.0
PRODID:SchoolNow
CALSCALE:GREGORIAN
BEGIN:VEVENT
UID:aee76632-f1a1-11f0-88e1-0a58a9feac02
DTSTAMP:20260419T124513Z
SUMMARY:PTA Executive Board Meeting
URL;VALUE=URI:https://www.tusd.org/schools/riviera/calendar/8836485/pta-exe
 cutive-board-meeting
DTSTART:20260312T161500Z
DTEND:20260312T171500Z
END:VEVENT
END:VCALENDAR
