BEGIN:VCALENDAR
VERSION:2.0
PRODID:SchoolNow
CALSCALE:GREGORIAN
BEGIN:VEVENT
UID:aee76268-f1a1-11f0-a73f-0a58a9feac02
DTSTAMP:20260421T072014Z
SUMMARY:GATE Enrichment
URL;VALUE=URI:https://www.tusd.org/schools/riviera/calendar/8836483/gate-en
 richment
DTSTART:20260312T223000Z
DTEND:20260312T233000Z
END:VEVENT
END:VCALENDAR
