BEGIN:VCALENDAR
VERSION:2.0
PRODID:SchoolNow
CALSCALE:GREGORIAN
BEGIN:VEVENT
UID:aee74346-f1a1-11f0-8df4-0a58a9feac02
DTSTAMP:20260419T124513Z
SUMMARY:Friendship Club
URL;VALUE=URI:https://www.tusd.org/schools/riviera/calendar/8836482/friends
 hip-club
DTSTART:20260318T190000Z
DTEND:20260318T200000Z
END:VEVENT
END:VCALENDAR
