BEGIN:VCALENDAR
VERSION:2.0
PRODID:SchoolNow
CALSCALE:GREGORIAN
BEGIN:VEVENT
UID:b7e00dd8-f0d5-11f0-9739-026b54f68fc5
DTSTAMP:20260419T124513Z
SUMMARY:PTA Executive Board Meeting
URL;VALUE=URI:https://www.tusd.org/schools/riviera/calendar/8835799/pta-exe
 cutive-board-meeting
DTSTART:20260212T171500Z
DTEND:20260212T181500Z
END:VEVENT
END:VCALENDAR
