BEGIN:VCALENDAR
VERSION:2.0
PRODID:SchoolNow
CALSCALE:GREGORIAN
BEGIN:VEVENT
UID:b7e00b6c-f0d5-11f0-afa2-026b54f68fc5
DTSTAMP:20260419T124513Z
SUMMARY:Friendship Club
URL;VALUE=URI:https://www.tusd.org/schools/riviera/calendar/8835798/friends
 hip-club
DTSTART:20260123T200000Z
DTEND:20260123T210000Z
END:VEVENT
END:VCALENDAR
