BEGIN:VCALENDAR
VERSION:2.0
PRODID:SchoolNow
CALSCALE:GREGORIAN
BEGIN:VEVENT
UID:b7e00a4a-f0d5-11f0-890f-026b54f68fc5
DTSTAMP:20260419T124513Z
SUMMARY:Field Trip to Angel's Gate-Kumagawa/Tanaka
URL;VALUE=URI:https://www.tusd.org/schools/riviera/calendar/8835797/field-t
 rip-to-angels-gate-kumagawa-tanaka
DTSTART;VALUE=DATE:20260217
DTEND;VALUE=DATE:20260218
END:VEVENT
END:VCALENDAR
