BEGIN:VCALENDAR
VERSION:2.0
PRODID:SchoolNow
CALSCALE:GREGORIAN
BEGIN:VEVENT
UID:b7e0090a-f0d5-11f0-8356-026b54f68fc5
DTSTAMP:20260419T124513Z
SUMMARY:District Spelling Bee
URL;VALUE=URI:https://www.tusd.org/schools/riviera/calendar/8835796/distric
 t-spelling-bee
DTSTART;VALUE=DATE:20260122
DTEND;VALUE=DATE:20260123
END:VEVENT
END:VCALENDAR
