BEGIN:VCALENDAR
VERSION:2.0
PRODID:SchoolNow
CALSCALE:GREGORIAN
BEGIN:VEVENT
UID:b7e00810-f0d5-11f0-9841-026b54f68fc5
DTSTAMP:20260419T124513Z
SUMMARY:Chorus @ Jr. Lakers
URL;VALUE=URI:https://www.tusd.org/schools/riviera/calendar/8835795/chorus-
 jr-lakers
DTSTART;VALUE=DATE:20260114
DTEND;VALUE=DATE:20260115
END:VEVENT
END:VCALENDAR
