BEGIN:VCALENDAR
VERSION:2.0
PRODID:SchoolNow
CALSCALE:GREGORIAN
BEGIN:VEVENT
UID:b7e006ee-f0d5-11f0-b343-026b54f68fc5
DTSTAMP:20260419T124513Z
SUMMARY:Riviera Golf Classic
URL;VALUE=URI:https://www.tusd.org/schools/riviera/calendar/8835794/riviera
 -golf-classic
DTSTART;VALUE=DATE:20260207
DTEND;VALUE=DATE:20260208
END:VEVENT
END:VCALENDAR
