BEGIN:VCALENDAR
VERSION:2.0
PRODID:SchoolNow
CALSCALE:GREGORIAN
BEGIN:VEVENT
UID:b7e00356-f0d5-11f0-b501-026b54f68fc5
DTSTAMP:20260419T124513Z
SUMMARY:Island Inspiration Assembly
URL;VALUE=URI:https://www.tusd.org/schools/riviera/calendar/8835792/island-
 inspiration-assembly
DTSTART;VALUE=DATE:20260121
DTEND;VALUE=DATE:20260122
END:VEVENT
END:VCALENDAR
