BEGIN:VCALENDAR
VERSION:2.0
PRODID:SchoolNow
CALSCALE:GREGORIAN
BEGIN:VEVENT
UID:b7e00266-f0d5-11f0-96b7-026b54f68fc5
DTSTAMP:20260419T124513Z
SUMMARY:100th Day of School
URL;VALUE=URI:https://www.tusd.org/schools/riviera/calendar/8835791/100th-d
 ay-of-school
DTSTART;VALUE=DATE:20260205
DTEND;VALUE=DATE:20260206
END:VEVENT
END:VCALENDAR
