BEGIN:VCALENDAR
VERSION:2.0
PRODID:SchoolNow
CALSCALE:GREGORIAN
BEGIN:VEVENT
UID:b7e00126-f0d5-11f0-8720-026b54f68fc5
DTSTAMP:20260419T124513Z
SUMMARY:ELMAC Meeting
URL;VALUE=URI:https://www.tusd.org/schools/riviera/calendar/8835790/elmac-m
 eeting
DTSTART:20260115T173000Z
DTEND:20260115T183000Z
END:VEVENT
END:VCALENDAR
