BEGIN:VCALENDAR
VERSION:2.0
PRODID:SchoolNow
CALSCALE:GREGORIAN
BEGIN:VEVENT
UID:b7dfffa0-f0d5-11f0-93fe-026b54f68fc5
DTSTAMP:20260419T124513Z
SUMMARY:Gate Enrichment
URL;VALUE=URI:https://www.tusd.org/schools/riviera/calendar/8835789/gate-en
 richment
DTSTART:20260212T233000Z
DTEND:20260213T003000Z
END:VEVENT
END:VCALENDAR
