BEGIN:VCALENDAR
VERSION:2.0
PRODID:SchoolNow
CALSCALE:GREGORIAN
BEGIN:VEVENT
UID:b7dffe9c-f0d5-11f0-afac-026b54f68fc5
DTSTAMP:20260419T124513Z
SUMMARY:Shelter in Place Drill
URL;VALUE=URI:https://www.tusd.org/schools/riviera/calendar/8835788/shelter
 -in-place-drill
DTSTART;VALUE=DATE:20260204
DTEND;VALUE=DATE:20260205
END:VEVENT
END:VCALENDAR
