BEGIN:VCALENDAR
VERSION:2.0
PRODID:SchoolNow
CALSCALE:GREGORIAN
BEGIN:VEVENT
UID:b7dffd98-f0d5-11f0-8a5e-026b54f68fc5
DTSTAMP:20260419T124513Z
SUMMARY:1st Grade Field Trip-Natural History Museum
URL;VALUE=URI:https://www.tusd.org/schools/riviera/calendar/8835787/1st-gra
 de-field-trip-natural-history-museum
DTSTART;VALUE=DATE:20260227
DTEND;VALUE=DATE:20260228
END:VEVENT
END:VCALENDAR
