BEGIN:VCALENDAR
VERSION:2.0
PRODID:SchoolNow
CALSCALE:GREGORIAN
BEGIN:VEVENT
UID:b7dffbb8-f0d5-11f0-8f23-026b54f68fc5
DTSTAMP:20260419T124513Z
SUMMARY:Field Trip to Angel's Gate-Josic/Wood
URL;VALUE=URI:https://www.tusd.org/schools/riviera/calendar/8835786/field-t
 rip-to-angels-gate-josic-wood
DTSTART;VALUE=DATE:20260224
DTEND;VALUE=DATE:20260225
END:VEVENT
END:VCALENDAR
