BEGIN:VCALENDAR
VERSION:2.0
PRODID:SchoolNow
CALSCALE:GREGORIAN
BEGIN:VEVENT
UID:b7dffa5a-f0d5-11f0-9b40-026b54f68fc5
DTSTAMP:20260419T124513Z
SUMMARY:2nd Grade Field Trip-SoFi Stadium
URL;VALUE=URI:https://www.tusd.org/schools/riviera/calendar/8835785/2nd-gra
 de-field-trip-sofi-stadium
DTSTART;VALUE=DATE:20260203
DTEND;VALUE=DATE:20260204
END:VEVENT
END:VCALENDAR
