BEGIN:VCALENDAR
VERSION:2.0
PRODID:SchoolNow
CALSCALE:GREGORIAN
BEGIN:VEVENT
UID:b7dff88e-f0d5-11f0-9a01-026b54f68fc5
DTSTAMP:20260419T124513Z
SUMMARY:Friendship Club
URL;VALUE=URI:https://www.tusd.org/schools/riviera/calendar/8835784/friends
 hip-club
DTSTART:20260220T200000Z
DTEND:20260220T210000Z
END:VEVENT
END:VCALENDAR
