BEGIN:VCALENDAR
VERSION:2.0
PRODID:SchoolNow
CALSCALE:GREGORIAN
BEGIN:VEVENT
UID:b7dff500-f0d5-11f0-b44d-026b54f68fc5
DTSTAMP:20260421T072014Z
SUMMARY:Play - Musick/Williamson
URL;VALUE=URI:https://www.tusd.org/schools/riviera/calendar/8835783/play-mu
 sick-williamson
DTSTART:20260219T200000Z
DTEND:20260219T210000Z
END:VEVENT
END:VCALENDAR
