BEGIN:VCALENDAR
VERSION:2.0
PRODID:SchoolNow
CALSCALE:GREGORIAN
BEGIN:VEVENT
UID:c158ecc6-f009-11f0-9e2e-0a58a9feac02
DTSTAMP:20260419T124513Z
SUMMARY:School Tour w/Principal 9:15-10:15
URL;VALUE=URI:https://www.tusd.org/schools/riviera/calendar/8835227/school-
 tour-w-principal-9-15-10-15
DTSTART;VALUE=DATE:20260304
DTEND;VALUE=DATE:20260305
END:VEVENT
END:VCALENDAR
