BEGIN:VCALENDAR
VERSION:2.0
PRODID:SchoolNow
CALSCALE:GREGORIAN
BEGIN:VEVENT
UID:f53e7182-ec0d-11f0-a2aa-0290b9c01ad3
DTSTAMP:20260419T124513Z
SUMMARY:School Tour w/Principal 9:15-10:15
URL;VALUE=URI:https://www.tusd.org/schools/riviera/calendar/8832507/school-
 tour-w-principal-9-15-10-15
DTSTART;VALUE=DATE:20260211
DTEND;VALUE=DATE:20260212
END:VEVENT
END:VCALENDAR
