BEGIN:VCALENDAR
VERSION:2.0
PRODID:SchoolNow
CALSCALE:GREGORIAN
BEGIN:VEVENT
UID:85d6ea22-baa8-11f0-b889-0afff9da4985
DTSTAMP:20260419T124513Z
SUMMARY:Student Council Spirit Day-When I am 100 years old Day
URL;VALUE=URI:https://www.tusd.org/schools/riviera/calendar/8780171/student
 -council-spirit-day-when-i-am-100-years-old-day
DTSTART;VALUE=DATE:20260204
DTEND;VALUE=DATE:20260205
END:VEVENT
END:VCALENDAR
