BEGIN:VCALENDAR
VERSION:2.0
PRODID:SchoolNow
CALSCALE:GREGORIAN
BEGIN:VEVENT
UID:85d6e5b8-baa8-11f0-b257-0afff9da4985
DTSTAMP:20260419T124513Z
SUMMARY:Student Council Spirit Day-Warm & Cozy Onesie Wednesday
URL;VALUE=URI:https://www.tusd.org/schools/riviera/calendar/8780170/student
 -council-spirit-day-warm-cozy-onesie-wednesday
DTSTART;VALUE=DATE:20260114
DTEND;VALUE=DATE:20260115
END:VEVENT
END:VCALENDAR
