BEGIN:VCALENDAR
VERSION:2.0
PRODID:SchoolNow
CALSCALE:GREGORIAN
BEGIN:VEVENT
UID:85d6e20c-baa8-11f0-8755-0afff9da4985
DTSTAMP:20260419T124513Z
SUMMARY:Student Council Spirit Day-Groovy Tie Dye Day
URL;VALUE=URI:https://www.tusd.org/schools/riviera/calendar/8780168/student
 -council-spirit-day-groovy-tie-dye-day
DTSTART;VALUE=DATE:20260327
DTEND;VALUE=DATE:20260328
END:VEVENT
END:VCALENDAR
